BEGIN:VCALENDAR
VERSION:2.0
PRODID:-//Saint-Just - ECPv6.15.14//NONSGML v1.0//EN
CALSCALE:GREGORIAN
METHOD:PUBLISH
X-ORIGINAL-URL:https://www.saintjust35.fr
X-WR-CALDESC:Évènements pour Saint-Just
REFRESH-INTERVAL;VALUE=DURATION:PT1H
X-Robots-Tag:noindex
X-PUBLISHED-TTL:PT1H
BEGIN:VTIMEZONE
TZID:Europe/Paris
BEGIN:DAYLIGHT
TZOFFSETFROM:+0100
TZOFFSETTO:+0200
TZNAME:CEST
DTSTART:20250330T010000
END:DAYLIGHT
BEGIN:STANDARD
TZOFFSETFROM:+0200
TZOFFSETTO:+0100
TZNAME:CET
DTSTART:20251026T010000
END:STANDARD
BEGIN:DAYLIGHT
TZOFFSETFROM:+0100
TZOFFSETTO:+0200
TZNAME:CEST
DTSTART:20260329T010000
END:DAYLIGHT
BEGIN:STANDARD
TZOFFSETFROM:+0200
TZOFFSETTO:+0100
TZNAME:CET
DTSTART:20261025T010000
END:STANDARD
BEGIN:DAYLIGHT
TZOFFSETFROM:+0100
TZOFFSETTO:+0200
TZNAME:CEST
DTSTART:20270328T010000
END:DAYLIGHT
BEGIN:STANDARD
TZOFFSETFROM:+0200
TZOFFSETTO:+0100
TZNAME:CET
DTSTART:20271031T010000
END:STANDARD
END:VTIMEZONE
BEGIN:VEVENT
DTSTART;TZID=Europe/Paris:20260424T200000
DTEND;TZID=Europe/Paris:20260424T200000
DTSTAMP:20260421T192214
CREATED:20260403T140655Z
LAST-MODIFIED:20260403T140724Z
UID:7745-1777060800-1777060800@www.saintjust35.fr
SUMMARY:Fest-Noz / Bal Folk
DESCRIPTION:
URL:https://www.saintjust35.fr/evenement/fest-noz-bal-folk/
CATEGORIES:Agenda Saint-Just
ATTACH;FMTTYPE=image/jpeg:https://www.saintjust35.fr/wp-content/uploads/sites/21/2026/04/SCAN-COPIEUR_20260403_161342_0001-scaled.jpg
END:VEVENT
BEGIN:VEVENT
DTSTART;TZID=Europe/Paris:20260425T103000
DTEND;TZID=Europe/Paris:20260425T111500
DTSTAMP:20260421T192214
CREATED:20260402T134429Z
LAST-MODIFIED:20260402T134540Z
UID:7742-1777113000-1777115700@www.saintjust35.fr
SUMMARY:Contes musicaux pour les tout petits (0-6 ans)
DESCRIPTION:
URL:https://www.saintjust35.fr/evenement/contes-musicaux-pour-les-tout-petits-0-6-ans/
ATTACH;FMTTYPE=image/png:https://www.saintjust35.fr/wp-content/uploads/sites/21/2026/04/Affiche-Esprit-Nomade.png
END:VEVENT
BEGIN:VEVENT
DTSTART;TZID=Europe/Paris:20260428T190000
DTEND;TZID=Europe/Paris:20260428T190000
DTSTAMP:20260421T192214
CREATED:20260410T073829Z
LAST-MODIFIED:20260410T073857Z
UID:7805-1777402800-1777402800@www.saintjust35.fr
SUMMARY:Assemblée Générale Ordinaire du FAR
DESCRIPTION:
URL:https://www.saintjust35.fr/evenement/assemblee-generale-ordinaire-du-far/
CATEGORIES:Agenda Saint-Just
ATTACH;FMTTYPE=image/png:https://www.saintjust35.fr/wp-content/uploads/sites/21/2026/04/AG-FAR.png
END:VEVENT
BEGIN:VEVENT
DTSTART;VALUE=DATE:20260607
DTEND;VALUE=DATE:20260608
DTSTAMP:20260421T192214
CREATED:20260226T153801Z
LAST-MODIFIED:20260226T153818Z
UID:7694-1780790400-1780876799@www.saintjust35.fr
SUMMARY:Marché des créateurs
DESCRIPTION:
URL:https://www.saintjust35.fr/evenement/marche-des-createurs/
CATEGORIES:Agenda Saint-Just
ATTACH;FMTTYPE=image/png:https://www.saintjust35.fr/wp-content/uploads/sites/21/2026/02/Affiche-Marche-de-Createurs-Artiste-Peintre-Illustration-Vintage-Bleu-Artistique-1-Copie.png
END:VEVENT
END:VCALENDAR