BEGIN:VCALENDAR
VERSION:2.0
PRODID:-//Saint-Just - ECPv6.15.14//NONSGML v1.0//EN
CALSCALE:GREGORIAN
METHOD:PUBLISH
X-WR-CALNAME:Saint-Just
X-ORIGINAL-URL:https://www.saintjust35.fr
X-WR-CALDESC:Évènements pour Saint-Just
REFRESH-INTERVAL;VALUE=DURATION:PT1H
X-Robots-Tag:noindex
X-PUBLISHED-TTL:PT1H
BEGIN:VTIMEZONE
TZID:Europe/Paris
BEGIN:DAYLIGHT
TZOFFSETFROM:+0100
TZOFFSETTO:+0200
TZNAME:CEST
DTSTART:20240331T010000
END:DAYLIGHT
BEGIN:STANDARD
TZOFFSETFROM:+0200
TZOFFSETTO:+0100
TZNAME:CET
DTSTART:20241027T010000
END:STANDARD
BEGIN:DAYLIGHT
TZOFFSETFROM:+0100
TZOFFSETTO:+0200
TZNAME:CEST
DTSTART:20250330T010000
END:DAYLIGHT
BEGIN:STANDARD
TZOFFSETFROM:+0200
TZOFFSETTO:+0100
TZNAME:CET
DTSTART:20251026T010000
END:STANDARD
BEGIN:DAYLIGHT
TZOFFSETFROM:+0100
TZOFFSETTO:+0200
TZNAME:CEST
DTSTART:20260329T010000
END:DAYLIGHT
BEGIN:STANDARD
TZOFFSETFROM:+0200
TZOFFSETTO:+0100
TZNAME:CET
DTSTART:20261025T010000
END:STANDARD
BEGIN:DAYLIGHT
TZOFFSETFROM:+0100
TZOFFSETTO:+0200
TZNAME:CEST
DTSTART:20270328T010000
END:DAYLIGHT
BEGIN:STANDARD
TZOFFSETFROM:+0200
TZOFFSETTO:+0100
TZNAME:CET
DTSTART:20271031T010000
END:STANDARD
END:VTIMEZONE
BEGIN:VEVENT
DTSTART;TZID=Europe/Paris:20260420T180000
DTEND;TZID=Europe/Paris:20260420T180000
DTSTAMP:20260421T161823
CREATED:20260326T111835Z
LAST-MODIFIED:20260326T111905Z
UID:7722-1776708000-1776708000@www.saintjust35.fr
SUMMARY:Soirée causerie débat sur la biodiversité
DESCRIPTION:
URL:https://www.saintjust35.fr/evenement/soiree-causerie-debat-sur-la-biodiversite/
CATEGORIES:Agenda Saint-Just
ATTACH;FMTTYPE=image/jpeg:https://www.saintjust35.fr/wp-content/uploads/sites/21/2026/03/Flyer-Animation-CPIE.jpg
END:VEVENT
BEGIN:VEVENT
DTSTART;TZID=Europe/Paris:20260415T100000
DTEND;TZID=Europe/Paris:20260415T100000
DTSTAMP:20260421T161823
CREATED:20260409T150035Z
LAST-MODIFIED:20260409T150111Z
UID:7776-1776247200-1776247200@www.saintjust35.fr
SUMMARY:Sortie nature "A la découverte des p'tites bêtes de Cojoux"
DESCRIPTION:
URL:https://www.saintjust35.fr/evenement/sortie-nature-a-la-decouverte-des-ptites-betes-de-cojoux/
CATEGORIES:Agenda Saint-Just
ATTACH;FMTTYPE=image/png:https://www.saintjust35.fr/wp-content/uploads/sites/21/2026/04/7-Ptites-betes-Cojoux-Instagram.png
END:VEVENT
BEGIN:VEVENT
DTSTART;TZID=Europe/Paris:20260412T170000
DTEND;TZID=Europe/Paris:20260412T170000
DTSTAMP:20260421T161823
CREATED:20260402T134242Z
LAST-MODIFIED:20260402T134256Z
UID:7740-1776013200-1776013200@www.saintjust35.fr
SUMMARY:Théâtre au Far Far West
DESCRIPTION:
URL:https://www.saintjust35.fr/evenement/theatre-au-far-far-west/
CATEGORIES:Agenda Saint-Just
ATTACH;FMTTYPE=image/png:https://www.saintjust35.fr/wp-content/uploads/sites/21/2026/04/Affiche-La-Mouche.png
END:VEVENT
BEGIN:VEVENT
DTSTART;TZID=Europe/Paris:20260409T200000
DTEND;TZID=Europe/Paris:20260409T200000
DTSTAMP:20260421T161823
CREATED:20260402T134135Z
LAST-MODIFIED:20260402T134145Z
UID:7737-1775764800-1775764800@www.saintjust35.fr
SUMMARY:Spectacle musical et dansé
DESCRIPTION:
URL:https://www.saintjust35.fr/evenement/spectacle-musical-et-danse/
CATEGORIES:Agenda Saint-Just
ATTACH;FMTTYPE=image/png:https://www.saintjust35.fr/wp-content/uploads/sites/21/2026/04/Affiche-Ask.png
END:VEVENT
BEGIN:VEVENT
DTSTART;TZID=Europe/Paris:20260329T170000
DTEND;TZID=Europe/Paris:20260329T180000
DTSTAMP:20260421T161823
CREATED:20260218T081306Z
LAST-MODIFIED:20260305T134729Z
UID:7677-1774803600-1774807200@www.saintjust35.fr
SUMMARY:Concert autour du monde
DESCRIPTION:Avec La Banda Nomade \nUne quinzaine de musiciens amateurs viendront nous partager leur passion pour la musique traditionnelle du monde et nous faire voyager avec un concert très riche et varié ! \n 
URL:https://www.saintjust35.fr/evenement/sieste-musicale-un-voyage-autour-du-monde/
CATEGORIES:Agenda Saint-Just
ATTACH;FMTTYPE=image/png:https://www.saintjust35.fr/wp-content/uploads/sites/21/2026/02/Affiche-La-Banda-Nomade.png
END:VEVENT
BEGIN:VEVENT
DTSTART;TZID=Europe/Paris:20260329T143000
DTEND;TZID=Europe/Paris:20260329T143000
DTSTAMP:20260421T161823
CREATED:20260324T102806Z
LAST-MODIFIED:20260324T102813Z
UID:7718-1774794600-1774794600@www.saintjust35.fr
SUMMARY:Chasse aux œufs
DESCRIPTION:
URL:https://www.saintjust35.fr/evenement/chasse-aux-oeufs/
CATEGORIES:Agenda Saint-Just
END:VEVENT
BEGIN:VEVENT
DTSTART;TZID=Europe/Paris:20260329T080000
DTEND;TZID=Europe/Paris:20260329T180000
DTSTAMP:20260421T161823
CREATED:20260127T101746Z
LAST-MODIFIED:20260127T111416Z
UID:7664-1774771200-1774807200@www.saintjust35.fr
SUMMARY:Vide Grenier
DESCRIPTION:Bulletin d’inscription
URL:https://www.saintjust35.fr/evenement/vide-grenier/
CATEGORIES:Agenda Saint-Just
END:VEVENT
BEGIN:VEVENT
DTSTART;TZID=Europe/Paris:20260321T190000
DTEND;TZID=Europe/Paris:20260321T190000
DTSTAMP:20260421T161823
CREATED:20260127T101551Z
LAST-MODIFIED:20260127T101600Z
UID:7661-1774119600-1774119600@www.saintjust35.fr
SUMMARY:Repas à thème "FERIA"
DESCRIPTION:
URL:https://www.saintjust35.fr/evenement/repas-a-theme-feria/
CATEGORIES:Agenda Saint-Just
END:VEVENT
BEGIN:VEVENT
DTSTART;TZID=Europe/Paris:20260311T150000
DTEND;TZID=Europe/Paris:20260311T163000
DTSTAMP:20260421T161823
CREATED:20260226T154444Z
LAST-MODIFIED:20260226T154451Z
UID:7697-1773241200-1773246600@www.saintjust35.fr
SUMMARY:Ciné-club à la médiathèque
DESCRIPTION:Gratuit
URL:https://www.saintjust35.fr/evenement/cine-club-a-la-mediatheque/
CATEGORIES:Agenda Saint-Just
ATTACH;FMTTYPE=image/jpeg:https://www.saintjust35.fr/wp-content/uploads/sites/21/2026/02/Affiche-Cinema_page-0001.jpg
END:VEVENT
BEGIN:VEVENT
DTSTART;TZID=Europe/Paris:20260307T200000
DTEND;TZID=Europe/Paris:20260307T200000
DTSTAMP:20260421T161823
CREATED:20260218T080816Z
LAST-MODIFIED:20260305T134522Z
UID:7674-1772913600-1772913600@www.saintjust35.fr
SUMMARY:Concert spectacle "J'aimerais tant" de Zarabanda
DESCRIPTION:Un concert « baroque » exceptionnel\, joué sur instruments anciens et mêlant blues\, tango\, chanson française et musique traditionnelle ! L’occasion de découvrir ces magnifiques instruments de manière originale. \nPrix libre (conseillé 10 euros) \nLien pour la billetterie Hello Asso : https://www.helloasso.com/associations/les-rencontres-d-am-lia/evenements/j-aimerais-tant-zarabanda
URL:https://www.saintjust35.fr/evenement/theatre-et-musique-la-comtesse-et-le-geant/
CATEGORIES:Agenda Saint-Just
ATTACH;FMTTYPE=image/png:https://www.saintjust35.fr/wp-content/uploads/sites/21/2026/02/Affiche-Zarabanda.png
END:VEVENT
BEGIN:VEVENT
DTSTART;TZID=Europe/Paris:20260226T103000
DTEND;TZID=Europe/Paris:20260226T113000
DTSTAMP:20260421T161823
CREATED:20251219T083433Z
LAST-MODIFIED:20260116T085737Z
UID:7587-1772101800-1772105400@www.saintjust35.fr
SUMMARY:Lectures avec les tout-petits (0 à 3 ans)
DESCRIPTION:
URL:https://www.saintjust35.fr/evenement/lectures-avec-les-tout-petits-0-a-3-ans/
CATEGORIES:Agenda Saint-Just
ATTACH;FMTTYPE=image/png:https://www.saintjust35.fr/wp-content/uploads/sites/21/2025/12/Affiche-Lecture-tout-petits.png
END:VEVENT
BEGIN:VEVENT
DTSTART;TZID=Europe/Paris:20260214T103000
DTEND;TZID=Europe/Paris:20260214T103000
DTSTAMP:20260421T161823
CREATED:20260121T085338Z
LAST-MODIFIED:20260121T085351Z
UID:7658-1771065000-1771065000@www.saintjust35.fr
SUMMARY:Atelier parent-enfant. Partage d'un temps créatif à la médiathèque
DESCRIPTION:
URL:https://www.saintjust35.fr/evenement/atelier-parent-enfant-partage-dun-temps-creatif-a-la-mediatheque/
CATEGORIES:Agenda Saint-Just
END:VEVENT
BEGIN:VEVENT
DTSTART;TZID=Europe/Paris:20260212T150000
DTEND;TZID=Europe/Paris:20260212T150000
DTSTAMP:20260421T161823
CREATED:20241023T092248Z
LAST-MODIFIED:20260116T090931Z
UID:6818-1770908400-1770908400@www.saintjust35.fr
SUMMARY:Café gallo à la Médiathèque
DESCRIPTION:V’nez don’ causer ou écouter le gallo !
URL:https://www.saintjust35.fr/evenement/cafe-gallo-a-la-medoatheque/
CATEGORIES:Agenda Saint-Just
ATTACH;FMTTYPE=image/png:https://www.saintjust35.fr/wp-content/uploads/sites/21/2024/10/Cafe-Gallo.png
END:VEVENT
BEGIN:VEVENT
DTSTART;TZID=Europe/Paris:20260203T183000
DTEND;TZID=Europe/Paris:20260203T203000
DTSTAMP:20260421T161823
CREATED:20250903T141259Z
LAST-MODIFIED:20260121T084321Z
UID:7421-1770143400-1770150600@www.saintjust35.fr
SUMMARY:Réunion d'information : Quel mode de garde pour le 0-3 ans?
DESCRIPTION:Réunion d’informations « Quel mode de garde pour les enfants de 0 à 3 ans? » \nà PIPRIAC le mardi 3 février de 18h30 à 20h30 \nSalle des cérémonies à la mairie de Pipriac \nCalendrier 2026
URL:https://www.saintjust35.fr/evenement/reunion-dinformation-quel-mode-de-garde-pour-le-0-3-ans/
CATEGORIES:Agenda Saint-Just
ATTACH;FMTTYPE=image/jpeg:https://www.saintjust35.fr/wp-content/uploads/sites/21/2025/09/SCAN-COPIEUR_20260121_094301_0001.jpg
END:VEVENT
BEGIN:VEVENT
DTSTART;TZID=Europe/Paris:20260110T110000
DTEND;TZID=Europe/Paris:20260110T110000
DTSTAMP:20260421T161823
CREATED:20251219T083604Z
LAST-MODIFIED:20251222T114925Z
UID:7590-1768042800-1768042800@www.saintjust35.fr
SUMMARY:Cérémonie des vœux du Maire
DESCRIPTION:
URL:https://www.saintjust35.fr/evenement/ceremonie-des-voeux-du-maire/
CATEGORIES:Agenda Saint-Just
END:VEVENT
BEGIN:VEVENT
DTSTART;TZID=Europe/Paris:20260107T143000
DTEND;TZID=Europe/Paris:20260107T170000
DTSTAMP:20260421T161823
CREATED:20251204T161925Z
LAST-MODIFIED:20251204T161939Z
UID:7574-1767796200-1767805200@www.saintjust35.fr
SUMMARY:Atelier découverte du tricot
DESCRIPTION:
URL:https://www.saintjust35.fr/evenement/atelier-decouverte-du-tricot/
CATEGORIES:Agenda Saint-Just
END:VEVENT
BEGIN:VEVENT
DTSTART;TZID=Europe/Paris:20251221T120000
DTEND;TZID=Europe/Paris:20251221T210000
DTSTAMP:20260421T161823
CREATED:20251201T101203Z
LAST-MODIFIED:20251201T101218Z
UID:7567-1766318400-1766350800@www.saintjust35.fr
SUMMARY:Les lampions de Noël
DESCRIPTION:
URL:https://www.saintjust35.fr/evenement/les-lampions-de-noel/
CATEGORIES:Agenda Saint-Just
END:VEVENT
BEGIN:VEVENT
DTSTART;TZID=Europe/Paris:20251214T100000
DTEND;TZID=Europe/Paris:20251214T180000
DTSTAMP:20260421T161823
CREATED:20251024T080806Z
LAST-MODIFIED:20251024T080818Z
UID:7505-1765706400-1765735200@www.saintjust35.fr
SUMMARY:Marché de Noël et bourse aux jouets
DESCRIPTION:
URL:https://www.saintjust35.fr/evenement/marche-de-noel-et-bourse-aux-jouets/
CATEGORIES:Agenda Saint-Just
END:VEVENT
BEGIN:VEVENT
DTSTART;TZID=Europe/Paris:20251213T100000
DTEND;TZID=Europe/Paris:20251213T120000
DTSTAMP:20260421T161823
CREATED:20251126T104242Z
LAST-MODIFIED:20251126T105208Z
UID:7556-1765620000-1765627200@www.saintjust35.fr
SUMMARY:Noël à la médiathèque
DESCRIPTION:
URL:https://www.saintjust35.fr/evenement/noel-a-la-mediatheque/
CATEGORIES:Agenda Saint-Just
END:VEVENT
BEGIN:VEVENT
DTSTART;TZID=Europe/Paris:20251212T170000
DTEND;TZID=Europe/Paris:20251212T190000
DTSTAMP:20260421T161823
CREATED:20251126T074822Z
LAST-MODIFIED:20251126T074833Z
UID:7553-1765558800-1765566000@www.saintjust35.fr
SUMMARY:Portes ouvertes au RPI Saint-Melaine
DESCRIPTION:
URL:https://www.saintjust35.fr/evenement/portes-ouvertes-au-rpi-saint-melaine-2/
CATEGORIES:Agenda Saint-Just
END:VEVENT
BEGIN:VEVENT
DTSTART;TZID=Europe/Paris:20251211T200000
DTEND;TZID=Europe/Paris:20251211T200000
DTSTAMP:20260421T161823
CREATED:20251209T125901Z
LAST-MODIFIED:20251209T125929Z
UID:7580-1765483200-1765483200@www.saintjust35.fr
SUMMARY:Spectacle musical "confidences"
DESCRIPTION:Un concert puissant avec des reprises piano-voix de Barbara\, Brel\, Anne Sylvestre et d’autres !
URL:https://www.saintjust35.fr/evenement/spectacle-musical-confidences/
CATEGORIES:Agenda Saint-Just
END:VEVENT
BEGIN:VEVENT
DTSTART;TZID=Europe/Paris:20251206T103000
DTEND;TZID=Europe/Paris:20251206T103000
DTSTAMP:20260421T161823
CREATED:20251024T080452Z
LAST-MODIFIED:20251024T080514Z
UID:7502-1765017000-1765017000@www.saintjust35.fr
SUMMARY:Atelier Furoshiki
DESCRIPTION:
URL:https://www.saintjust35.fr/evenement/atelier-furoshiki/
CATEGORIES:Agenda Saint-Just
END:VEVENT
BEGIN:VEVENT
DTSTART;TZID=Europe/Paris:20251129T103000
DTEND;TZID=Europe/Paris:20251129T103000
DTSTAMP:20260421T161823
CREATED:20251024T080009Z
LAST-MODIFIED:20251024T080120Z
UID:7499-1764412200-1764412200@www.saintjust35.fr
SUMMARY:Spectacle "Souffle de vent"
DESCRIPTION:Pour les enfants de 2 à 5 ans
URL:https://www.saintjust35.fr/evenement/spectacle-souffle-de-vent/
CATEGORIES:Agenda Saint-Just
END:VEVENT
BEGIN:VEVENT
DTSTART;TZID=Europe/Paris:20251129T180000
DTEND;TZID=Europe/Paris:20251129T180000
DTSTAMP:20260421T161823
CREATED:20251024T080922Z
LAST-MODIFIED:20251024T081016Z
UID:7508-1764439200-1764439200@www.saintjust35.fr
SUMMARY:Téléthon
DESCRIPTION:
URL:https://www.saintjust35.fr/evenement/telethon/
CATEGORIES:Agenda Saint-Just
END:VEVENT
BEGIN:VEVENT
DTSTART;TZID=Europe/Paris:20251123T000000
DTEND;TZID=Europe/Paris:20251123T000000
DTSTAMP:20260421T161823
CREATED:20251106T154337Z
LAST-MODIFIED:20251106T154418Z
UID:7527-1763856000-1763856000@www.saintjust35.fr
SUMMARY:Spectacle de contes et chansons
DESCRIPTION:
URL:https://www.saintjust35.fr/evenement/spectacle-de-contes-et-chansons/
CATEGORIES:Agenda Saint-Just
END:VEVENT
BEGIN:VEVENT
DTSTART;TZID=Europe/Paris:20251115T203000
DTEND;TZID=Europe/Paris:20251115T203000
DTSTAMP:20260421T161823
CREATED:20251014T081037Z
LAST-MODIFIED:20251014T081705Z
UID:7480-1763238600-1763238600@www.saintjust35.fr
SUMMARY:Contes et musique
DESCRIPTION:
URL:https://www.saintjust35.fr/evenement/contes-et-musique/
CATEGORIES:Agenda Saint-Just
END:VEVENT
BEGIN:VEVENT
DTSTART;TZID=Europe/Paris:20251115T000000
DTEND;TZID=Europe/Paris:20251115T000000
DTSTAMP:20260421T161823
CREATED:20251016T120932Z
LAST-MODIFIED:20251016T120944Z
UID:7495-1763164800-1763164800@www.saintjust35.fr
SUMMARY:Vente exceptionnelle de compost aux particuliers - SMICTOM des Pays de Vilaine
DESCRIPTION:
URL:https://www.saintjust35.fr/evenement/vente-exceptionnelle-de-compost-aux-particuliers-smictom-des-pays-de-vilaine/
CATEGORIES:Agenda Saint-Just
END:VEVENT
BEGIN:VEVENT
DTSTART;TZID=Europe/Paris:20251029T150000
DTEND;TZID=Europe/Paris:20251029T180000
DTSTAMP:20260421T161823
CREATED:20251002T075932Z
LAST-MODIFIED:20251002T075941Z
UID:7468-1761750000-1761760800@www.saintjust35.fr
SUMMARY:Animation Halloween à la médiathèque
DESCRIPTION:
URL:https://www.saintjust35.fr/evenement/animation-halloween-a-la-mediatheque/
CATEGORIES:Agenda Saint-Just
END:VEVENT
BEGIN:VEVENT
DTSTART;TZID=Europe/Paris:20251025T100000
DTEND;TZID=Europe/Paris:20251025T120000
DTSTAMP:20260421T161823
CREATED:20250715T141703Z
LAST-MODIFIED:20250715T141710Z
UID:7353-1761386400-1761393600@www.saintjust35.fr
SUMMARY:Atelier modelage préhistorique
DESCRIPTION:
URL:https://www.saintjust35.fr/evenement/atelier-modelage-prehistorique/
CATEGORIES:Agenda Saint-Just
END:VEVENT
BEGIN:VEVENT
DTSTART;TZID=Europe/Paris:20251022T143000
DTEND;TZID=Europe/Paris:20251022T173000
DTSTAMP:20260421T161823
CREATED:20251002T094843Z
LAST-MODIFIED:20251002T094854Z
UID:7474-1761143400-1761154200@www.saintjust35.fr
SUMMARY:Un après-midi chez les gaulois
DESCRIPTION:
URL:https://www.saintjust35.fr/evenement/un-apres-midi-chez-les-gaulois/
CATEGORIES:Agenda Saint-Just
END:VEVENT
END:VCALENDAR